BEGIN:VCALENDAR
VERSION:2.0
PRODID:-//hacksw/handcal//NONSGML v1.0//EN
BEGIN:VEVENT
UID:e1a52e7d1835203f644a2e93be68c28d
DTSTAMP:20260423T094150Z

DTSTART:20191129T000000
DTEND:20191129T235959
SUMMARY:WinterWonderCleveland 
DESCRIPTION:Scroll to bottom of page to make your purchase.  
WinterWonderCleveland is the FIRST pop-up experience to hit the Midwest and the most enchanting of them all!  This immersive world of life-size, multi-sensory installations will make you an interactive component of your favorite holiday stories, movies and songs.  Experience a grand imaginary wonderland perfect for families and Instagram influencers alike.  Live your best life and radiate joy and happiness throughout this magical vehicle for storytelling.  Solve challenges, play, and create sharable moments with friends and family or the entire social media world!  Dreams do come true this winter in Cleveland. 
LOCATION:5401 Hamilton Ave, Cleveland, OH 44114, USA
END:VEVENT

END:VCALENDAR
