BEGIN:VCALENDAR
VERSION:2.0
PRODID:-//hacksw/handcal//NONSGML v1.0//EN
BEGIN:VEVENT
UID:4ab8269274f0e3dc8dcb97ad15c8274a
DTSTAMP:20260425T102117Z

DTSTART:20200321T000000
DTEND:20200321T235959
SUMMARY:Catholic Life Conference
DESCRIPTION:To invigorate the Catholics of Western Massachusetts with an annual conference that will nourish families and parishes with the beauty of the Catholic Faith by proclaiming, “This is Why We Are Catholic.”
LOCATION:1277 Main St, Springfield, MA 01103, USA
END:VEVENT

END:VCALENDAR
