BEGIN:VCALENDAR
VERSION:2.0
PRODID:-//hacksw/handcal//NONSGML v1.0//EN
BEGIN:VEVENT
UID:f456e157e38c67a37983c5b57f3ad9d8
DTSTAMP:20260424T092603Z

DTSTART:20180919T090000
DTEND:20180920T210000
SUMMARY:Stewardship: A Mission of Faith Fall Conference
DESCRIPTION:This conference is for adults and will focus on a variety of topics including evangelization, spiritual growth, parenting, morality, stewardship and more. All are welcome!
LOCATION:
END:VEVENT

END:VCALENDAR
