BEGIN:VCALENDAR
VERSION:2.0
PRODID:-//hacksw/handcal//NONSGML v1.0//EN
BEGIN:VEVENT
UID:efe0f1401e4809bf81f8e31e34a64d0f
DTSTAMP:20260423T094216Z

DTSTART:20191130T000000
DTEND:20191130T235959
SUMMARY:WinterWonderCleveland  - 30.11.2019
DESCRIPTION:Scroll to bottom of page to make your purchase.  
WinterWonderCleveland is the FIRST pop-up experience to hit the Midwest and the most enchanting of them all!  This immersive world of life-size, multi-sensory installations will make you an interactive component of your favorite holiday stories, movies and songs.  Experience a grand imaginary wonderland perfect for families and Instagram influencers alike.  Live your best life and radiate joy and happiness throughout this magical vehicle for storytelling.  Solve challenges, play, and create sharable moments with friends and family or the entire social media world!  Dreams do come true this winter in Cleveland. 
LOCATION:5401 Hamilton Ave, Cleveland, OH 44114, USA
END:VEVENT

END:VCALENDAR
